BEGIN:VCALENDAR
VERSION:2.0
PRODID:-//Sostre Cívic - ECPv6.10.1.1//NONSGML v1.0//EN
CALSCALE:GREGORIAN
METHOD:PUBLISH
X-ORIGINAL-URL:https://sostrecivic.jamgo.org
X-WR-CALDESC:Events for Sostre Cívic
REFRESH-INTERVAL;VALUE=DURATION:PT1H
X-Robots-Tag:noindex
X-PUBLISHED-TTL:PT1H
BEGIN:VTIMEZONE
TZID:Europe/Madrid
BEGIN:DAYLIGHT
TZOFFSETFROM:+0100
TZOFFSETTO:+0200
TZNAME:CEST
DTSTART:20200329T010000
END:DAYLIGHT
BEGIN:STANDARD
TZOFFSETFROM:+0200
TZOFFSETTO:+0100
TZNAME:CET
DTSTART:20201025T010000
END:STANDARD
END:VTIMEZONE
BEGIN:VEVENT
DTSTART;TZID=Europe/Madrid:20201216T160000
DTEND;TZID=Europe/Madrid:20201216T180000
DTSTAMP:20260424T233650
CREATED:20201201T165243Z
LAST-MODIFIED:20201216T124648Z
UID:5398-1608134400-1608141600@sostrecivic.jamgo.org
SUMMARY:Cures en la convivència de persones grans
DESCRIPTION:Cures en la convivència de persones grans\nPlantejar alternatives a la mercantilització de les cures a la gent gran a través de mecanismes no especulatius basats en el bé comú és una aposta política ferma de l’entitat. I també ho és col·laborar per construir un nou model d’atenció a les persones grans des d’una lògica cooperativa i  associada a l’espai de l’hàbitat\, tot reclamant un marc legal més clar i favorable per permetre iniciatives d’aquestes característiques.  \nQuan?\nEl dimecres 16 de desembre\, de 17:00 a 19:00 hores. \nA on?\nXerrada online. Passarem el link de l’acte per correu electrònic a les persones inscrites. \n  \n[FORMULARI TANCAT]
URL:https://sostrecivic.jamgo.org/agenda/cures-en-la-convivencia-de-persones-grans/
ATTACH;FMTTYPE=image/jpeg:https://sostrecivic.jamgo.org/wp-content/uploads/2020/12/CicleConstruimHC.jpg
ORGANIZER;CN="Sostre C%C3%ADvic":MAILTO:info@sostrecivic.cat
END:VEVENT
END:VCALENDAR