BEGIN:VCALENDAR
VERSION:2.0
PRODID:-//Sostre Cívic - ECPv6.10.1.1//NONSGML v1.0//EN
CALSCALE:GREGORIAN
METHOD:PUBLISH
X-ORIGINAL-URL:https://sostrecivic.jamgo.org
X-WR-CALDESC:Events for Sostre Cívic
REFRESH-INTERVAL;VALUE=DURATION:PT1H
X-Robots-Tag:noindex
X-PUBLISHED-TTL:PT1H
BEGIN:VTIMEZONE
TZID:Europe/Madrid
BEGIN:DAYLIGHT
TZOFFSETFROM:+0100
TZOFFSETTO:+0200
TZNAME:CEST
DTSTART:20200329T010000
END:DAYLIGHT
BEGIN:STANDARD
TZOFFSETFROM:+0200
TZOFFSETTO:+0100
TZNAME:CET
DTSTART:20201025T010000
END:STANDARD
END:VTIMEZONE
BEGIN:VEVENT
DTSTART;TZID=Europe/Madrid:20201203T170000
DTEND;TZID=Europe/Madrid:20201203T190000
DTSTAMP:20260424T233446
CREATED:20201119T141138Z
LAST-MODIFIED:20210517T214942Z
UID:5307-1607014800-1607022000@sostrecivic.jamgo.org
SUMMARY:Jornada "Participació comunitària i co-disseny en arquitectura residencial"
DESCRIPTION:Ja està aquí la tercera edició de les jornades de reflexió al voltant del paper de l’arquitectura en la transformació social i mediambiental que organitzem a Sostre Cívic! \nQuin ha de ser el paper de l’arquitectura en l’actual context d’emergència habitacional? Com incideix la participació en el cost del projecte residencial\, quin cost benefici es pot donar? Quins són els nous paradigmes arquitectònics que estan generant-se al voltant de la participació en el disseny residencial? \nEn aquesta ocasió ens volem centrar en aquells projectes\, en aquells col·lectius i en aquelles arquitectures que estan donant resposta a l’actual situació d’emergència habitacional a través de la participació i l’empoderament de les usuàries en l’impuls i el disseny dels edificis.  I com no pot ser d’una altre manera ens volem fixar sobretot en l’experiència cooperativa i associativa.  \nEns proposem conèixer iniciatives d’arreu sobre la participació comunitària i el co-disseny en l’arquitectura residencial\, i alhora abordar la problemàtica a la que s’enfronten\, per tal d’aprendre d’altres experiències.  \n\nA la presentació\, hi participaran: \n\n\n\n\n\nStephane Fuchs (Suïssa). Arquitecte soci fundador d’ATBA.\nInés de Rivera (Espanya). Arquitecta i sòcia fundadora de STEM arquitectes. Màster d’Antropologia Urbana\, Migracions i Intervenció Social (URV). Membre del grup d’investigació Territori i Paisatge [rum]LAB d’URV. Professora Associada de Projectes i Urbanisme a l’Escola d’Arquitectura de Reus (URV)  i de Projectes Arquitectònics a l’Escola d’Arquitectura de Barcelona (UPC).\nRaúl Vallés (Uruguai). Docent\, investigador i consultor internacional en l’àrea habitatge social\, hàbitat i territori. Assessor de la Direcció d’Habitatge del Ministeri d’Habitatge Ordenament Territorial i Medi Ambient. Professor Titular de la Unitat Permanent d’Habitatge de la FADU. Director de la Revista Habitatge Popular.\n\n\n\n\n\n\n\nLa sessió està dirigida a personal tècnic de l’àmbit de l’arquitectura i les ciències socials\, així com a professionals dels serveis socials i a membres d’entitats compromeses amb el dret a l’habitatge\, especialment aquelles que estan implicades en l’àmbit cooperatiu i de l’ESS. \nQuan?\nEl dijous 3 de desembre\, de 18:00 a 20:00 hores. \nA on?\nXerrada online. Passarem el link de l’acte per correu electrònic a les persones inscrites. \n  \n\nAquesta activitat es du a terme amb el suport de l’Ajuntament de Barcelona\, i forma part del projecte “Arquitectura com a eina de transformació social”
URL:https://sostrecivic.jamgo.org/agenda/jornada-participacio-comunitaria/
CATEGORIES:Actes
END:VEVENT
END:VCALENDAR