BEGIN:VCALENDAR
VERSION:2.0
PRODID:-//Sostre Cívic - ECPv6.10.1.1//NONSGML v1.0//EN
CALSCALE:GREGORIAN
METHOD:PUBLISH
X-WR-CALNAME:Sostre Cívic
X-ORIGINAL-URL:https://sostrecivic.jamgo.org
X-WR-CALDESC:Events for Sostre Cívic
REFRESH-INTERVAL;VALUE=DURATION:PT1H
X-Robots-Tag:noindex
X-PUBLISHED-TTL:PT1H
BEGIN:VTIMEZONE
TZID:Europe/Madrid
BEGIN:DAYLIGHT
TZOFFSETFROM:+0100
TZOFFSETTO:+0200
TZNAME:CEST
DTSTART:20200329T010000
END:DAYLIGHT
BEGIN:STANDARD
TZOFFSETFROM:+0200
TZOFFSETTO:+0100
TZNAME:CET
DTSTART:20201025T010000
END:STANDARD
END:VTIMEZONE
BEGIN:VEVENT
DTSTART;TZID=Europe/Madrid:20201118T180000
DTEND;TZID=Europe/Madrid:20201118T193000
DTSTAMP:20260425T044914
CREATED:20201106T193409Z
LAST-MODIFIED:20201106T193521Z
UID:5143-1605722400-1605727800@sostrecivic.jamgo.org
SUMMARY:Taula rodona "Habitatge sostenible i energia"
DESCRIPTION:Juntament amb Celobert\, Becquel i Som Energia (grups locals de Barcelona i Badalona)\, participem en aquesta activitat que es fa en el marc de la FESC 2020\, enguany adaptada a les circumstàncies i feta en format virtual íntegrament. \nAquesta presentació agrupa diverses ponències i un debat posterior sobre: \n\nIntroducció i contextualització sobre el problema ambiental de l’edificació i el model cooperatiu d’habitatge.\nIdees principals per construir un edifici sostenible des de l’ESS; el cas de l’edifici CIRERERS de 9barris\nCom podem gaudir de l’autoconsum?: Nocions bàsiques sobre com aconseguir l’autoconsum energètic en un habitatge.\nImpuls solar barcelonès: Campanya de compra col·lectiva d’instal·lacions fotovoltaiques per autoconsum a la comarca del Barcelonès\n\nMés informació a:\nhttps://fesc.xes.cat/activitats?activity=habitatge-sostenible-i-energia-exemples-reals-de-cohabitatge-i-de-fotovoltaica
URL:https://sostrecivic.jamgo.org/agenda/taula-rodona-habitatge-sostenible-energia/
CATEGORIES:Actes
END:VEVENT
END:VCALENDAR