BEGIN:VCALENDAR
VERSION:2.0
PRODID:-//Sostre Cívic - ECPv6.10.1.1//NONSGML v1.0//EN
CALSCALE:GREGORIAN
METHOD:PUBLISH
X-ORIGINAL-URL:https://sostrecivic.jamgo.org
X-WR-CALDESC:Events for Sostre Cívic
REFRESH-INTERVAL;VALUE=DURATION:PT1H
X-Robots-Tag:noindex
X-PUBLISHED-TTL:PT1H
BEGIN:VTIMEZONE
TZID:Europe/Madrid
BEGIN:DAYLIGHT
TZOFFSETFROM:+0100
TZOFFSETTO:+0200
TZNAME:CEST
DTSTART:20200329T010000
END:DAYLIGHT
BEGIN:STANDARD
TZOFFSETFROM:+0200
TZOFFSETTO:+0100
TZNAME:CET
DTSTART:20201025T010000
END:STANDARD
END:VTIMEZONE
BEGIN:VEVENT
DTSTART;TZID=Europe/Madrid:20201111T163000
DTEND;TZID=Europe/Madrid:20201111T170000
DTSTAMP:20260425T045031
CREATED:20201106T185656Z
LAST-MODIFIED:20210517T214621Z
UID:5136-1605112200-1605114000@sostrecivic.jamgo.org
SUMMARY:Presentació "Fem assequible l'habitatge cooperatiu!"
DESCRIPTION:  \nCom a membres de la sectorial d’habitatge cooperatiu en cessió d’ús de la XES\, participem en aquesta activitat que es fa en el marc de la FESC 2020\, enguany adaptada a les circumstàncies i feta en format virtual íntegrament. \nEn aquesta presentació explicarem la campanya pública de sensibilització i incidència política per a la generació de polítiques públiques en l’àmbit econòmic que fomentin l’habitatge cooperatiu en cessió d’ús i en garanteixin l’assequibilitat que s’està preparant des de la sectorial. \nMés informació a:\nhttps://fesc.xes.cat/activitats?activity=mecanismes-per-enfortir-lhabitatge-cooperatiu-en-cessio-dus
URL:https://sostrecivic.jamgo.org/agenda/presentacio-fem-assequible-lhabitatge-cooperatiu/
CATEGORIES:Actes
ATTACH;FMTTYPE=image/png:https://sostrecivic.jamgo.org/wp-content/uploads/2020/11/1120_FESC19_PresentacioCampanya.png
END:VEVENT
END:VCALENDAR