BEGIN:VCALENDAR
VERSION:2.0
PRODID:-//Sostre Cívic - ECPv6.10.1.1//NONSGML v1.0//EN
CALSCALE:GREGORIAN
METHOD:PUBLISH
X-ORIGINAL-URL:https://sostrecivic.jamgo.org
X-WR-CALDESC:Events for Sostre Cívic
REFRESH-INTERVAL;VALUE=DURATION:PT1H
X-Robots-Tag:noindex
X-PUBLISHED-TTL:PT1H
BEGIN:VTIMEZONE
TZID:Europe/Madrid
BEGIN:DAYLIGHT
TZOFFSETFROM:+0100
TZOFFSETTO:+0200
TZNAME:CEST
DTSTART:20200329T010000
END:DAYLIGHT
BEGIN:STANDARD
TZOFFSETFROM:+0200
TZOFFSETTO:+0100
TZNAME:CET
DTSTART:20201025T010000
END:STANDARD
END:VTIMEZONE
BEGIN:VEVENT
DTSTART;TZID=Europe/Madrid:20200213T170000
DTEND;TZID=Europe/Madrid:20200213T190000
DTSTAMP:20260425T124300
CREATED:20200206T123022Z
LAST-MODIFIED:20200206T154900Z
UID:3696-1581613200-1581620400@sostrecivic.jamgo.org
SUMMARY:Sessió informativa del projecte Cirerers
DESCRIPTION:Vols entrar a un projecte d’habitatge cooperatiu a Barcelona? Ara és la teva oportunitat per incorporar-te al projecte de Cirerers\, que està a punt de començar les seves obres! \nCirerers neix l’any 2016\, quan vam apostar per presentar-nos al concurs impulsat per l’Ajuntament de Barcelona per desenvolupar un projecte d’habitatge cooperatiu al barri de Roquetes de la ciutat. \nSi vols saber-ne més\, cine a la xerrada que organitzem el dia 13 de febrer per a totes les persones interessades en conèixer el projecte i la nostra cooperativa. I\, mentrestant\, aquí pots llegir els requisits d’incorporació al projecte i el dossier informatiu. \nCONFIRMA AQUÍ LA TEVA ASSISTÈNCIA \nThi esperem! 🙂
URL:https://sostrecivic.jamgo.org/agenda/sessio-informativa-del-projecte-cirerers-febrer2020-2/
LOCATION:ECOS Grup Cooperatiu\, Casp\, 43\, baixos.\, Barcelona\, 08010
CATEGORIES:Xerrades
END:VEVENT
END:VCALENDAR