BEGIN:VCALENDAR
VERSION:2.0
PRODID:-//Sostre Cívic - ECPv6.10.1.1//NONSGML v1.0//EN
CALSCALE:GREGORIAN
METHOD:PUBLISH
X-ORIGINAL-URL:https://sostrecivic.jamgo.org
X-WR-CALDESC:Events for Sostre Cívic
REFRESH-INTERVAL;VALUE=DURATION:PT1H
X-Robots-Tag:noindex
X-PUBLISHED-TTL:PT1H
BEGIN:VTIMEZONE
TZID:Europe/Madrid
BEGIN:DAYLIGHT
TZOFFSETFROM:+0100
TZOFFSETTO:+0200
TZNAME:CEST
DTSTART:20200329T010000
END:DAYLIGHT
BEGIN:STANDARD
TZOFFSETFROM:+0200
TZOFFSETTO:+0100
TZNAME:CET
DTSTART:20201025T010000
END:STANDARD
END:VTIMEZONE
BEGIN:VEVENT
DTSTART;TZID=Europe/Madrid:20200201T100000
DTEND;TZID=Europe/Madrid:20200201T130000
DTSTAMP:20260425T124206
CREATED:20200122T132501Z
LAST-MODIFIED:20200122T201603Z
UID:3618-1580551200-1580562000@sostrecivic.jamgo.org
SUMMARY:Sessió informativa i visita a Martorell
DESCRIPTION:El dissabte 1 de febrer a les 11h farem una sessió informativa i una visita als habitatges que recentment ha adquirit Sostre Cívic al barri de La Vila a Martorell. En aquest document informatiu es pot consultar tota la informació rellevant de Sostre Cívic\, les característiques de l’edifici i dels habitatges\, les condicions i requisits d’accés i tota aquella informació rellevant per accedir-hi. \nPer inscriure’s al procés d’inscripcions per formar part dels habitatges cal omplir aquest formulari.
URL:https://sostrecivic.jamgo.org/agenda/sessio-informativa-i-visita-a-martorell/
LOCATION:C/ Sant Antoni 4\, Martorell\, C/Sant Antoni 4\, Martorell\, 08760
CATEGORIES:Xerrades
END:VEVENT
END:VCALENDAR