BEGIN:VCALENDAR
VERSION:2.0
PRODID:-//Sostre Cívic - ECPv6.10.1.1//NONSGML v1.0//EN
CALSCALE:GREGORIAN
METHOD:PUBLISH
X-WR-CALNAME:Sostre Cívic
X-ORIGINAL-URL:https://sostrecivic.jamgo.org
X-WR-CALDESC:Events for Sostre Cívic
REFRESH-INTERVAL;VALUE=DURATION:PT1H
X-Robots-Tag:noindex
X-PUBLISHED-TTL:PT1H
BEGIN:VTIMEZONE
TZID:Europe/Madrid
BEGIN:DAYLIGHT
TZOFFSETFROM:+0100
TZOFFSETTO:+0200
TZNAME:CEST
DTSTART:20190331T010000
END:DAYLIGHT
BEGIN:STANDARD
TZOFFSETFROM:+0200
TZOFFSETTO:+0100
TZNAME:CET
DTSTART:20191027T010000
END:STANDARD
END:VTIMEZONE
BEGIN:VEVENT
DTSTART;TZID=Europe/Madrid:20191218T170000
DTEND;TZID=Europe/Madrid:20191218T190000
DTSTAMP:20260425T153217
CREATED:20191212T122029Z
LAST-MODIFIED:20191212T155244Z
UID:3524-1576688400-1576695600@sostrecivic.jamgo.org
SUMMARY:Xerrada "Impulsem l'habitatge cooperatiu a Martorell!"
DESCRIPTION:Sostre Cívic ha adquirit\, a través de l’exercici del dret a tanteig i retracte\, un immoble de 14 habitatges a Martorell\, concretament al barri de La Vila. \nAmb aquesta adquisició es promou el desenvolupament del model d’habitatge cooperatiu en cessió d’ús al municipi\, avançant en l’impuls d’alternatives d’accés a l’habitatge basades en la gestió col·lectiva\, la participació\, la no especulació\, el foment de la convivència i la sostenibilitat\, entre altres principis que caracteritzen el model. \n\nSi vols conèixer més a fons l’habitatge cooperatiu i la proposta concreta a desenvolupar a Martorell\, t’animem a venir a la sessió informativa el proper dimecres 18 a les 18h al Centre Cultural. S’exposaran les principals característiques del model i de l’immoble adquirit\, descrivint les tipologies dels habitatges\, els requisits per accedir-hi i el procés d’incorporació per a les persones interessades. \nUns dies després\, farem una visita a l’immoble per totes aquelles persones interessades en accedir a aquests habitatges. Serà el dissabte 21 de desembre entre les 10h i les 12h del migdia a Martorell. Per accedir a aquesta visita també és important que omplis el formulari. \nAixí mateix\, si no pots venir a la sessió informativa però vols seguir informat/ada del procés d’incorporacions a aquest Projecte d’Habitatge Cooperatiu\, t’animem a facilitar-nos igualment les teves dades omplint el mateix formulari per informar-te dels propers passos. (Aquestes dades no donen cap dret preferent d’accés als habitatges. El procés d’inscripcions i el calendari serà informat posteriorment a totes les persones inscrites). \nOMPLE AQUÍ EL FORMULARI
URL:https://sostrecivic.jamgo.org/agenda/xerrada-martorell/
LOCATION:Centre Cultural\, Plaça de les Cultures\, s/n\, Martorell\, 08760
CATEGORIES:Xerrades
END:VEVENT
END:VCALENDAR