BEGIN:VCALENDAR
VERSION:2.0
PRODID:-//Sostre Cívic - ECPv6.10.1.1//NONSGML v1.0//EN
CALSCALE:GREGORIAN
METHOD:PUBLISH
X-ORIGINAL-URL:https://sostrecivic.jamgo.org
X-WR-CALDESC:Events for Sostre Cívic
REFRESH-INTERVAL;VALUE=DURATION:PT1H
X-Robots-Tag:noindex
X-PUBLISHED-TTL:PT1H
BEGIN:VTIMEZONE
TZID:Europe/Madrid
BEGIN:DAYLIGHT
TZOFFSETFROM:+0100
TZOFFSETTO:+0200
TZNAME:CEST
DTSTART:20190331T010000
END:DAYLIGHT
BEGIN:STANDARD
TZOFFSETFROM:+0200
TZOFFSETTO:+0100
TZNAME:CET
DTSTART:20191027T010000
END:STANDARD
END:VTIMEZONE
BEGIN:VEVENT
DTSTART;TZID=Europe/Madrid:20191210T090000
DTEND;TZID=Europe/Madrid:20191210T160000
DTSTAMP:20260425T153354
CREATED:20191106T172722Z
LAST-MODIFIED:20191106T172722Z
UID:3364-1575968400-1575993600@sostrecivic.jamgo.org
SUMMARY:Punt d'informació en habitatge cooperatiu a Manresa
DESCRIPTION:L’Ateneu Cooperatiu de la Catalunya Central i la cooperativa Sostre Cívic impulsem conjuntament un punt d’informació en habitatge cooperatiu a la Catalunya Central.  \nAl punt podrà acudir-hi qualsevol persona que tingui interès en l’habitatge cooperatiu\, ja siguin persones individuals\, grups\, tècnics o entitats interessades. El punt\, que compta amb el suport del CEDEM Manresa\, estarà en funcionament cada 15 dies i oferirà els seus serveis a Manresa a partir del dimarts 29 d’octubre. \nEl servei estarà disponible a partir del dimarts 29 d’octubre i a partir d’aleshores\, cada 15 dies estarà operatiu. L’horari serà de 10h a 14h i de 15h a 17h i per poder-hi assistir cal concertar una cita prèvia a través d’aquest formulari.  \nPer més informació\, pots consultar la web de l’Ateneu Cooperatiu de la Catalunya Central.
URL:https://sostrecivic.jamgo.org/agenda/punt-dinformacio-en-habitatge-cooperatiu-a-manresa-2/
LOCATION:CEDEM\, c. Castelladral 5-7.\, Manresa\, 08243
CATEGORIES:Punt informatiu
END:VEVENT
END:VCALENDAR