BEGIN:VCALENDAR
VERSION:2.0
PRODID:-//Sostre Cívic - ECPv6.10.1.1//NONSGML v1.0//EN
CALSCALE:GREGORIAN
METHOD:PUBLISH
X-ORIGINAL-URL:https://sostrecivic.jamgo.org
X-WR-CALDESC:Events for Sostre Cívic
REFRESH-INTERVAL;VALUE=DURATION:PT1H
X-Robots-Tag:noindex
X-PUBLISHED-TTL:PT1H
BEGIN:VTIMEZONE
TZID:Europe/Madrid
BEGIN:DAYLIGHT
TZOFFSETFROM:+0100
TZOFFSETTO:+0200
TZNAME:CEST
DTSTART:20190331T010000
END:DAYLIGHT
BEGIN:STANDARD
TZOFFSETFROM:+0200
TZOFFSETTO:+0100
TZNAME:CET
DTSTART:20191027T010000
END:STANDARD
END:VTIMEZONE
BEGIN:VEVENT
DTSTART;TZID=Europe/Madrid:20190927T100000
DTEND;TZID=Europe/Madrid:20190927T140000
DTSTAMP:20260425T193653
CREATED:20190919T131409Z
LAST-MODIFIED:20190919T131409Z
UID:2813-1569578400-1569592800@sostrecivic.jamgo.org
SUMMARY:Els reptes del foment del consum responsable al segle XXI
DESCRIPTION:Com les cooperatives poden promoure el consum responsable?  \nEls darrers vint anys\, la idea del consum com a eina de canvi social i ambiental ha guanyat cada cop més atenció: avui\, trobem múltiples iniciatives de la ciutadania organitzada\, del món de l’economia cooperativa o des de l’administració que s’han fet ressò de la idea del consum responsable. \nAquesta jornada vol posar en comú la feina feta\, des de diferents visions i motivacions\, per a debatre i identificar juntes reptes actuals i potencialitats futures per a impulsar una nova cultura del consum. \nNosaltres participarem a la taula rodona “El foment del consum responsable des del cooperativisme i l’Economia Social i Solidària”. de 11:45h a 13:00 hores\, juntament amb Som Connexió\, Som Mobilitat\, i Fiare Banca Ètica; i amb Jordi Rojas com a moderador. \nPer inscripcions\, escriu un email a consum@bcn.coop amb l’assumpte “Jornades consum” i afegeix el teu nom\,cognoms i organització\, si és el cas.
URL:https://sostrecivic.jamgo.org/agenda/els-reptes-del-foment-del-consum-responsable-al-segle-xxi/
LOCATION:Lleialtat Santsenca\, carrer Olzinelles\, 31\, Barcelona\, 08014
CATEGORIES:Xerrades
ATTACH;FMTTYPE=image/jpeg:https://sostrecivic.jamgo.org/wp-content/uploads/2019/09/Cartell-1.jpg
END:VEVENT
BEGIN:VEVENT
DTSTART;TZID=Europe/Madrid:20190927T183000
DTEND;TZID=Europe/Madrid:20190927T203000
DTSTAMP:20260425T193653
CREATED:20190620T093544Z
LAST-MODIFIED:20190620T093654Z
UID:590-1569609000-1569616200@sostrecivic.jamgo.org
SUMMARY:Sensibilització i difusió de l'habitatge cooperatiu
DESCRIPTION:En aquesta xerrada promoguda pel Cercle de Consum de Coòpolis plantejarem la problemàtica d’accés a l’habitatge i com models alternatius poden esdevenir una realitat\, detallant les claus del model de cessió d’ús i els seus valors. Explicarem també diferents experiències de la ciutat\, i les diferents fases per portar a terme un projecte d’aquestes característiques. \nInscripcions aquí! \n 
URL:https://sostrecivic.jamgo.org/agenda/sensibilitzacio-i-difusio-de-lhabitatge-cooperatiu-set2019/
LOCATION:ECOS Grup Cooperatiu (Bailèn)\, Bailèn\, 5\, baixos.\, Barcelona\, 08010
CATEGORIES:Xerrades
ATTACH;FMTTYPE=image/jpeg:https://sostrecivic.jamgo.org/wp-content/uploads/2019/06/Cercle-de-Consum_Sessions-informatives.jpg
END:VEVENT
END:VCALENDAR