BEGIN:VCALENDAR
VERSION:2.0
PRODID:-//Sostre Cívic - ECPv6.10.1.1//NONSGML v1.0//EN
CALSCALE:GREGORIAN
METHOD:PUBLISH
X-ORIGINAL-URL:https://sostrecivic.jamgo.org
X-WR-CALDESC:Events for Sostre Cívic
REFRESH-INTERVAL;VALUE=DURATION:PT1H
X-Robots-Tag:noindex
X-PUBLISHED-TTL:PT1H
BEGIN:VTIMEZONE
TZID:Europe/Madrid
BEGIN:DAYLIGHT
TZOFFSETFROM:+0100
TZOFFSETTO:+0200
TZNAME:CEST
DTSTART:20190331T010000
END:DAYLIGHT
BEGIN:STANDARD
TZOFFSETFROM:+0200
TZOFFSETTO:+0100
TZNAME:CET
DTSTART:20191027T010000
END:STANDARD
END:VTIMEZONE
BEGIN:VEVENT
DTSTART;TZID=Europe/Madrid:20190926T180000
DTEND;TZID=Europe/Madrid:20190926T200000
DTSTAMP:20260425T193654
CREATED:20190920T094422Z
LAST-MODIFIED:20190920T095029Z
UID:2826-1569520800-1569528000@sostrecivic.jamgo.org
SUMMARY:Vine a celebrar l’inici de les obres de La Balma!
DESCRIPTION:Tenim una molt bona notícia per compartir… \nComencem les obres de La Balma\, al Poblenou\, i volem celebrar-ho amb tu! \nQuan? Dijous 26 de setembre\, a les 18 hores. \nOn? Al carrer Espronceda\, 131 (entrada a l’acte pel camí antic de València) \nCompartirem juntes un moment inoblidable i presentarem la nova campanya Tornassol de títols participatius a través de la qual podràs invertir èticament per impulsar l’habitatge cooperatiu a Barcelona. \nA l’acte intervindran Juan Garibi\, director comercial de Fiare Banca Etica; Lucía Martín\, regidora d’Habitatge de l’Ajuntament de Barcelona\, i Josep Vidal\, director general d’Economia Social\, el Tercer Sector\, les Cooperatives i l’Autoempresa. \nDesprés\, les veïnes de La Balma duran a terme un ritual del bon auguri tot enterrant al solar una caixa amb objectes personals i desitjos per atraure la bona sort per al projecte i la bona convivència. \nT’hi esperem!
URL:https://sostrecivic.jamgo.org/agenda/vine-a-celebrar-linici-de-les-obres-de-la-balma/
LOCATION:La Balma\, Espronceda\, 131.\, Barcelona\, 08005
ATTACH;FMTTYPE=image/jpeg:https://sostrecivic.jamgo.org/wp-content/uploads/2019/09/invitacio-obres_xarxes.jpg
END:VEVENT
END:VCALENDAR